BEGIN:VCALENDAR
VERSION:2.0
PRODID:-//hacksw/handcal//NONSGML v1.0//EN
CALSCALE:GREGORIAN
BEGIN:VEVENT
DTSTART:20210411T080000Z
DTEND:20210411T090000Z
UID:e23716
DTSTAMP:20260419T140517Z
LOCATION:
DESCRIPTION:“Engineering personalized tissue implants: From 3D printing to bionic organs”
SUMMARY:“Engineering personalized tissue implants: From 3D printing to bionic organs”
END:VEVENT
END:VCALENDAR