BEGIN:VCALENDAR
VERSION:2.0
PRODID:-//hacksw/handcal//NONSGML v1.0//EN
CALSCALE:GREGORIAN
BEGIN:VEVENT
DTSTART:20210322T070000Z
DTEND:20210322T080000Z
UID:e23724
DTSTAMP:20260420T045917Z
LOCATION:
DESCRIPTION:Seminar for MSc thesis defense - Nadav Goldberg
SUMMARY:Seminar for MSc thesis defense - Nadav Goldberg
END:VEVENT
END:VCALENDAR