BEGIN:VCALENDAR
VERSION:2.0
PRODID:-//hacksw/handcal//NONSGML v1.0//EN
CALSCALE:GREGORIAN
BEGIN:VEVENT
DTSTART:20210325T110000Z
DTEND:20210325T120000Z
UID:e23726
DTSTAMP:20260420T045931Z
LOCATION:
DESCRIPTION:VEGF/vascular-centered view of the tumor microenvironment and aging
SUMMARY:VEGF/vascular-centered view of the tumor microenvironment and aging
END:VEVENT
END:VCALENDAR