BEGIN:VCALENDAR
VERSION:2.0
PRODID:-//hacksw/handcal//NONSGML v1.0//EN
CALSCALE:GREGORIAN
BEGIN:VEVENT
DTSTART:20210325T120000Z
DTEND:20210325T130000Z
UID:e23756
DTSTAMP:20260420T034201Z
LOCATION:
DESCRIPTION:Uncovering Olfactory Perception Boundaries
SUMMARY:Uncovering Olfactory Perception Boundaries
END:VEVENT
END:VCALENDAR