BEGIN:VCALENDAR
VERSION:2.0
PRODID:-//hacksw/handcal//NONSGML v1.0//EN
CALSCALE:GREGORIAN
BEGIN:VEVENT
DTSTART:20210406T083000Z
DTEND:20210406T093000Z
UID:e23764
DTSTAMP:20260420T045905Z
LOCATION:
DESCRIPTION:Aerobic Bacteria Produce Nitric Oxide Through Denitrification During Microbial Interactions
SUMMARY:Aerobic Bacteria Produce Nitric Oxide Through Denitrification During Microbial Interactions
END:VEVENT
END:VCALENDAR