BEGIN:VCALENDAR
VERSION:2.0
PRODID:-//hacksw/handcal//NONSGML v1.0//EN
CALSCALE:GREGORIAN
BEGIN:VEVENT
DTSTART:20210526T120000Z
DTEND:20210526T130000Z
UID:e23766
DTSTAMP:20260424T055750Z
LOCATION:
DESCRIPTION:Breast tumor evolution
SUMMARY:Breast tumor evolution
END:VEVENT
END:VCALENDAR