BEGIN:VCALENDAR
VERSION:2.0
PRODID:-//hacksw/handcal//NONSGML v1.0//EN
CALSCALE:GREGORIAN
BEGIN:VEVENT
DTSTART:20210427T070000Z
DTEND:20210427T080000Z
UID:e23776
DTSTAMP:20260419T224750Z
LOCATION:
DESCRIPTION:Heat Shock Factor 1-dependent extracellular matrix remodeling mediates the transition from chronic intestinal inflammation to colon cancer
SUMMARY:Heat Shock Factor 1-dependent extracellular matrix remodeling mediates the transition from chronic intestinal inflammation to colon cancer
END:VEVENT
END:VCALENDAR