BEGIN:VCALENDAR
VERSION:2.0
PRODID:-//hacksw/handcal//NONSGML v1.0//EN
CALSCALE:GREGORIAN
BEGIN:VEVENT
DTSTART:20210624T081500Z
DTEND:20210624T093000Z
UID:e23794
DTSTAMP:20260421T213513Z
LOCATION:
DESCRIPTION:Synchronization and spatial coherence of noisy circadian clocks in a multicellular1-d organism
SUMMARY:Synchronization and spatial coherence of noisy circadian clocks in a multicellular1-d organism
END:VEVENT
END:VCALENDAR