BEGIN:VCALENDAR
VERSION:2.0
PRODID:-//hacksw/handcal//NONSGML v1.0//EN
CALSCALE:GREGORIAN
BEGIN:VEVENT
DTSTART:20210525T070000Z
DTEND:20210525T070000Z
UID:e23804
DTSTAMP:20260420T155014Z
LOCATION:
DESCRIPTION:TBA
SUMMARY:TBA
END:VEVENT
END:VCALENDAR