BEGIN:VCALENDAR
VERSION:2.0
PRODID:-//hacksw/handcal//NONSGML v1.0//EN
CALSCALE:GREGORIAN
BEGIN:VEVENT
DTSTART:20210513T090000Z
DTEND:20210513T100000Z
UID:e23826
DTSTAMP:20260420T054923Z
LOCATION:
DESCRIPTION:Seminar for PhD thesis defense - Aya Shkedy
SUMMARY:Seminar for PhD thesis defense - Aya Shkedy
END:VEVENT
END:VCALENDAR