BEGIN:VCALENDAR
VERSION:2.0
PRODID:-//hacksw/handcal//NONSGML v1.0//EN
CALSCALE:GREGORIAN
BEGIN:VEVENT
DTSTART:20210614T050000Z
DTEND:20210616T140000Z
UID:e23830
DTSTAMP:20260419T185818Z
LOCATION:
DESCRIPTION:Functional Disulfides in Health & Disease
SUMMARY:Functional Disulfides in Health & Disease
END:VEVENT
END:VCALENDAR