BEGIN:VCALENDAR
VERSION:2.0
PRODID:-//hacksw/handcal//NONSGML v1.0//EN
CALSCALE:GREGORIAN
BEGIN:VEVENT
DTSTART:20210615T070000Z
DTEND:20210615T073000Z
UID:e23850
DTSTAMP:20260422T204951Z
LOCATION:Nella and Leon Benoziyo Building for Biological Sciences
DESCRIPTION:A role for SINE-encoded RNA in neuronal regeneration?
SUMMARY:A role for SINE-encoded RNA in neuronal regeneration?
END:VEVENT
END:VCALENDAR