BEGIN:VCALENDAR
VERSION:2.0
PRODID:-//hacksw/handcal//NONSGML v1.0//EN
CALSCALE:GREGORIAN
BEGIN:VEVENT
DTSTART:20210520T110000Z
DTEND:20210520T120000Z
UID:e23886
DTSTAMP:20260420T054929Z
LOCATION:
DESCRIPTION:M.Sc thesis defense: “Preparation of multifunctional protein- polysaccharide fibrillar thin films with tunable mechanical and electrical properties”
SUMMARY:M.Sc thesis defense: “Preparation of multifunctional protein- polysaccharide fibrillar thin films with tunable mechanical and electrical properties”
END:VEVENT
END:VCALENDAR