BEGIN:VCALENDAR
VERSION:2.0
PRODID:-//hacksw/handcal//NONSGML v1.0//EN
CALSCALE:GREGORIAN
BEGIN:VEVENT
DTSTART:20210628T170000Z
DTEND:20210628T190000Z
UID:e23894
DTSTAMP:20260421T134002Z
LOCATION:Michael Sela Auditorium
DESCRIPTION:When Dance meet Science 
SUMMARY:When Dance meet Science 
END:VEVENT
END:VCALENDAR