BEGIN:VCALENDAR
VERSION:2.0
PRODID:-//hacksw/handcal//NONSGML v1.0//EN
CALSCALE:GREGORIAN
BEGIN:VEVENT
DTSTART:20210525T120000Z
DTEND:20210525T130000Z
UID:e23898
DTSTAMP:20260424T183142Z
LOCATION:
DESCRIPTION:The assembly of microbial communities in the ocean\, one drop at a time
SUMMARY:The assembly of microbial communities in the ocean\, one drop at a time
END:VEVENT
END:VCALENDAR