BEGIN:VCALENDAR
VERSION:2.0
PRODID:-//hacksw/handcal//NONSGML v1.0//EN
CALSCALE:GREGORIAN
BEGIN:VEVENT
DTSTART:20210530T100000Z
DTEND:20210530T100000Z
UID:e23904
DTSTAMP:20260422T182638Z
LOCATION:Arthur and Rochelle Belfer Building for Biomedical Research
DESCRIPTION:Molecular Genetics Departmental seminar with Sveta Markman
SUMMARY:Molecular Genetics Departmental seminar with Sveta Markman
END:VEVENT
END:VCALENDAR