BEGIN:VCALENDAR
VERSION:2.0
PRODID:-//hacksw/handcal//NONSGML v1.0//EN
CALSCALE:GREGORIAN
BEGIN:VEVENT
DTSTART:20210617T110000Z
DTEND:20210617T120000Z
UID:e23906
DTSTAMP:20260422T142549Z
LOCATION:Max and Lillian Candiotty Building
DESCRIPTION:The success and challenges of introducing PARP inhibitors into the therapy of ovarian cancer- a clinician’s perspective
SUMMARY:The success and challenges of introducing PARP inhibitors into the therapy of ovarian cancer- a clinician’s perspective
END:VEVENT
END:VCALENDAR