BEGIN:VCALENDAR
VERSION:2.0
PRODID:-//hacksw/handcal//NONSGML v1.0//EN
CALSCALE:GREGORIAN
BEGIN:VEVENT
DTSTART:20210628T070000Z
DTEND:20210628T080000Z
UID:e23908
DTSTAMP:20260421T180747Z
LOCATION:Max and Lillian Candiotty Building
DESCRIPTION:The Next Frontier in Genetic Medicine: mRNA-Based Approach For Treating Diseases
SUMMARY:The Next Frontier in Genetic Medicine: mRNA-Based Approach For Treating Diseases
END:VEVENT
END:VCALENDAR