BEGIN:VCALENDAR
VERSION:2.0
PRODID:-//hacksw/handcal//NONSGML v1.0//EN
CALSCALE:GREGORIAN
BEGIN:VEVENT
DTSTART:20210620T100000Z
DTEND:20210620T100000Z
UID:e23928
DTSTAMP:20260423T043955Z
LOCATION:Arthur and Rochelle Belfer Building for Biomedical Research
DESCRIPTION:Molecular Genetics Departmental seminar with Nancy Yacovzada
SUMMARY:Molecular Genetics Departmental seminar with Nancy Yacovzada
END:VEVENT
END:VCALENDAR