BEGIN:VCALENDAR
VERSION:2.0
PRODID:-//hacksw/handcal//NONSGML v1.0//EN
CALSCALE:GREGORIAN
BEGIN:VEVENT
DTSTART:20210627T100000Z
DTEND:20210627T100000Z
UID:e23930
DTSTAMP:20260421T224354Z
LOCATION:Arthur and Rochelle Belfer Building for Biomedical Research
DESCRIPTION:Molecular Genetics departmental seminar with Omri Gilhar
SUMMARY:Molecular Genetics departmental seminar with Omri Gilhar
END:VEVENT
END:VCALENDAR