BEGIN:VCALENDAR
VERSION:2.0
PRODID:-//hacksw/handcal//NONSGML v1.0//EN
CALSCALE:GREGORIAN
BEGIN:VEVENT
DTSTART:20210705T050000Z
DTEND:20210708T050000Z
UID:e23940
DTSTAMP:20260421T224345Z
LOCATION:Nella and Leon Benoziyo Physics Building
DESCRIPTION:ICFO-WEIZMANN SCHOOLS ON THE FRONTIERS OF LIGHT: New Approaches to Atom-Light Interactions
SUMMARY:ICFO-WEIZMANN SCHOOLS ON THE FRONTIERS OF LIGHT: New Approaches to Atom-Light Interactions
END:VEVENT
END:VCALENDAR