BEGIN:VCALENDAR
VERSION:2.0
PRODID:-//hacksw/handcal//NONSGML v1.0//EN
CALSCALE:GREGORIAN
BEGIN:VEVENT
DTSTART:20210708T110000Z
DTEND:20210708T120000Z
UID:e23960
DTSTAMP:20260421T111229Z
LOCATION:Max and Lillian Candiotty Building
DESCRIPTION:Love the neighbor – Unraveling the tumor microenvironment using multiplexed imaging 
SUMMARY:Love the neighbor – Unraveling the tumor microenvironment using multiplexed imaging 
END:VEVENT
END:VCALENDAR