BEGIN:VCALENDAR
VERSION:2.0
PRODID:-//hacksw/handcal//NONSGML v1.0//EN
CALSCALE:GREGORIAN
BEGIN:VEVENT
DTSTART:20210620T080000Z
DTEND:20210620T090000Z
UID:e23962
DTSTAMP:20260422T204825Z
LOCATION:Gerhard M.J. Schmidt Lecture Hall
DESCRIPTION:Hybrid Talk: “POLYSACCHARIDE HYDROGELS CROSS-LINKED VIA PEPTIDE-DENDRIMERS”
SUMMARY:Hybrid Talk: “POLYSACCHARIDE HYDROGELS CROSS-LINKED VIA PEPTIDE-DENDRIMERS”
END:VEVENT
END:VCALENDAR