BEGIN:VCALENDAR
VERSION:2.0
PRODID:-//hacksw/handcal//NONSGML v1.0//EN
CALSCALE:GREGORIAN
BEGIN:VEVENT
DTSTART:20210615T083000Z
DTEND:20210615T093000Z
UID:e23970
DTSTAMP:20260422T204819Z
LOCATION:
DESCRIPTION:Predicting the structure of microbial communities
SUMMARY:Predicting the structure of microbial communities
END:VEVENT
END:VCALENDAR