BEGIN:VCALENDAR
VERSION:2.0
PRODID:-//hacksw/handcal//NONSGML v1.0//EN
CALSCALE:GREGORIAN
BEGIN:VEVENT
DTSTART:20210617T081500Z
DTEND:20210617T093000Z
UID:e23972
DTSTAMP:20260422T204824Z
LOCATION:
DESCRIPTION:ULTRASAT: Revolutionizing our view of the transient universe 
SUMMARY:ULTRASAT: Revolutionizing our view of the transient universe 
END:VEVENT
END:VCALENDAR