BEGIN:VCALENDAR
VERSION:2.0
PRODID:-//hacksw/handcal//NONSGML v1.0//EN
CALSCALE:GREGORIAN
BEGIN:VEVENT
DTSTART:20210616T113000Z
DTEND:20210616T122500Z
UID:e23974
DTSTAMP:20260422T204824Z
LOCATION:
DESCRIPTION:Algebraic Geometry and Representation Theory Seminar
SUMMARY:Algebraic Geometry and Representation Theory Seminar
END:VEVENT
END:VCALENDAR