BEGIN:VCALENDAR
VERSION:2.0
PRODID:-//hacksw/handcal//NONSGML v1.0//EN
CALSCALE:GREGORIAN
BEGIN:VEVENT
DTSTART:20210622T071500Z
DTEND:20210622T073000Z
UID:e23978
DTSTAMP:20260422T204819Z
LOCATION:Nella and Leon Benoziyo Building for Biological Sciences
DESCRIPTION:Celebratory Staff Scientists Seminar - The use of animal toxins as a tool for basic ion channel research
SUMMARY:Celebratory Staff Scientists Seminar - The use of animal toxins as a tool for basic ion channel research
END:VEVENT
END:VCALENDAR