BEGIN:VCALENDAR
VERSION:2.0
PRODID:-//hacksw/handcal//NONSGML v1.0//EN
CALSCALE:GREGORIAN
BEGIN:VEVENT
DTSTART:20210622T083000Z
DTEND:20210622T093000Z
UID:e23994
DTSTAMP:20260423T044657Z
LOCATION:
DESCRIPTION:Divergent fate of coccolithophores in a warming tropical ecosystem
SUMMARY:Divergent fate of coccolithophores in a warming tropical ecosystem
END:VEVENT
END:VCALENDAR