BEGIN:VCALENDAR
VERSION:2.0
PRODID:-//hacksw/handcal//NONSGML v1.0//EN
CALSCALE:GREGORIAN
BEGIN:VEVENT
DTSTART:20211007T110000Z
DTEND:20211007T120000Z
UID:e24002
DTSTAMP:20260423T033848Z
LOCATION:
DESCRIPTION:Modeling and targeting cancer aneuploidy 
SUMMARY:Modeling and targeting cancer aneuploidy 
END:VEVENT
END:VCALENDAR