BEGIN:VCALENDAR
VERSION:2.0
PRODID:-//hacksw/handcal//NONSGML v1.0//EN
CALSCALE:GREGORIAN
BEGIN:VEVENT
DTSTART:20210621T130000Z
DTEND:20210624T171500Z
UID:e24004
DTSTAMP:20260422T204834Z
LOCATION:
DESCRIPTION:EMBO Meeting on Cell Size and Growth Regulation
SUMMARY:EMBO Meeting on Cell Size and Growth Regulation
END:VEVENT
END:VCALENDAR