BEGIN:VCALENDAR
VERSION:2.0
PRODID:-//hacksw/handcal//NONSGML v1.0//EN
CALSCALE:GREGORIAN
BEGIN:VEVENT
DTSTART:20210706T070000Z
DTEND:20210706T080000Z
UID:e24006
DTSTAMP:20260421T180724Z
LOCATION:
DESCRIPTION:Halite deposition in the Dead Sea: Direct observations and lessons for thick halite sequences in the geological record
SUMMARY:Halite deposition in the Dead Sea: Direct observations and lessons for thick halite sequences in the geological record
END:VEVENT
END:VCALENDAR