BEGIN:VCALENDAR
VERSION:2.0
PRODID:-//hacksw/handcal//NONSGML v1.0//EN
CALSCALE:GREGORIAN
BEGIN:VEVENT
DTSTART:20210726T150000Z
DTEND:20210726T160000Z
UID:e24024
DTSTAMP:20260423T084734Z
LOCATION:
DESCRIPTION:Our Changing Atmosphere: Carbon\, Consequences\, and Capture
SUMMARY:Our Changing Atmosphere: Carbon\, Consequences\, and Capture
END:VEVENT
END:VCALENDAR