BEGIN:VCALENDAR
VERSION:2.0
PRODID:-//hacksw/handcal//NONSGML v1.0//EN
CALSCALE:GREGORIAN
BEGIN:VEVENT
DTSTART:20210902T050000Z
DTEND:20210902T050000Z
UID:e24044
DTSTAMP:20260423T084737Z
LOCATION:
DESCRIPTION:The Israeli Society for Developmental Biology %u2013IsSDB meeting ECM\, cytoskeleton and migration
SUMMARY:The Israeli Society for Developmental Biology %u2013IsSDB meeting ECM\, cytoskeleton and migration
END:VEVENT
END:VCALENDAR