BEGIN:VCALENDAR
VERSION:2.0
PRODID:-//hacksw/handcal//NONSGML v1.0//EN
CALSCALE:GREGORIAN
BEGIN:VEVENT
DTSTART:20210719T080000Z
DTEND:20210719T090000Z
UID:e24046
DTSTAMP:20260422T204839Z
LOCATION:Gerhard M.J. Schmidt Lecture Hall
DESCRIPTION:Developing first-principles methods to study force- and stress-enabled mechanochemistry
SUMMARY:Developing first-principles methods to study force- and stress-enabled mechanochemistry
END:VEVENT
END:VCALENDAR