BEGIN:VCALENDAR
VERSION:2.0
PRODID:-//hacksw/handcal//NONSGML v1.0//EN
CALSCALE:GREGORIAN
BEGIN:VEVENT
DTSTART:20210720T070000Z
DTEND:20210720T080000Z
UID:e24050
DTSTAMP:20260424T040531Z
LOCATION:
DESCRIPTION:Defense metabolites: from eco systems to growth
SUMMARY:Defense metabolites: from eco systems to growth
END:VEVENT
END:VCALENDAR