BEGIN:VCALENDAR
VERSION:2.0
PRODID:-//hacksw/handcal//NONSGML v1.0//EN
CALSCALE:GREGORIAN
BEGIN:VEVENT
DTSTART:20210727T110000Z
DTEND:20210727T123000Z
UID:e24052
DTSTAMP:20260423T053252Z
LOCATION:Gerhard M.J. Schmidt Lecture Hall
DESCRIPTION:"IDP-membrane interactions in neurodegeneration and neuronal function”
SUMMARY:"IDP-membrane interactions in neurodegeneration and neuronal function”
END:VEVENT
END:VCALENDAR