BEGIN:VCALENDAR
VERSION:2.0
PRODID:-//hacksw/handcal//NONSGML v1.0//EN
CALSCALE:GREGORIAN
BEGIN:VEVENT
DTSTART:20211005T093000Z
DTEND:20211005T093000Z
UID:e24060
DTSTAMP:20260423T114307Z
LOCATION:
DESCRIPTION:To be announced
SUMMARY:To be announced
END:VEVENT
END:VCALENDAR