BEGIN:VCALENDAR
VERSION:2.0
PRODID:-//hacksw/handcal//NONSGML v1.0//EN
CALSCALE:GREGORIAN
BEGIN:VEVENT
DTSTART:20211207T093000Z
DTEND:20211207T093000Z
UID:e24072
DTSTAMP:20260420T085544Z
LOCATION:
DESCRIPTION:Memory consolidation during sleep: Mechanisms and representations
SUMMARY:Memory consolidation during sleep: Mechanisms and representations
END:VEVENT
END:VCALENDAR