BEGIN:VCALENDAR
VERSION:2.0
PRODID:-//hacksw/handcal//NONSGML v1.0//EN
CALSCALE:GREGORIAN
BEGIN:VEVENT
DTSTART:20210816T120000Z
DTEND:20210816T130000Z
UID:e24090
DTSTAMP:20260423T065758Z
LOCATION:
DESCRIPTION:Special seminar with Dr. Yaara Oren
SUMMARY:Special seminar with Dr. Yaara Oren
END:VEVENT
END:VCALENDAR