BEGIN:VCALENDAR
VERSION:2.0
PRODID:-//hacksw/handcal//NONSGML v1.0//EN
CALSCALE:GREGORIAN
BEGIN:VEVENT
DTSTART:20211118T110000Z
DTEND:20211118T120000Z
UID:e24096
DTSTAMP:20260419T112319Z
LOCATION:
DESCRIPTION:Melanoma addiction to GCDH defines NRF2 tumor suppressor function
SUMMARY:Melanoma addiction to GCDH defines NRF2 tumor suppressor function
END:VEVENT
END:VCALENDAR