BEGIN:VCALENDAR
VERSION:2.0
PRODID:-//hacksw/handcal//NONSGML v1.0//EN
CALSCALE:GREGORIAN
BEGIN:VEVENT
DTSTART:20210919T110000Z
DTEND:20210919T123000Z
UID:e24108
DTSTAMP:20260423T065755Z
LOCATION:
DESCRIPTION:Deciphering the role of brain- resident and infiltrating myeloid cells  in Alzheimer’s disease
SUMMARY:Deciphering the role of brain- resident and infiltrating myeloid cells  in Alzheimer’s disease
END:VEVENT
END:VCALENDAR