BEGIN:VCALENDAR
VERSION:2.0
PRODID:-//hacksw/handcal//NONSGML v1.0//EN
CALSCALE:GREGORIAN
BEGIN:VEVENT
DTSTART:20211017T080000Z
DTEND:20211017T080000Z
UID:e24112
DTSTAMP:20260423T005206Z
LOCATION:
DESCRIPTION:TBA
SUMMARY:TBA
END:VEVENT
END:VCALENDAR