BEGIN:VCALENDAR
VERSION:2.0
PRODID:-//hacksw/handcal//NONSGML v1.0//EN
CALSCALE:GREGORIAN
BEGIN:VEVENT
DTSTART:20211121T080000Z
DTEND:20211121T080000Z
UID:e24116
DTSTAMP:20260419T185608Z
LOCATION:
DESCRIPTION:TBA
SUMMARY:TBA
END:VEVENT
END:VCALENDAR