BEGIN:VCALENDAR
VERSION:2.0
PRODID:-//hacksw/handcal//NONSGML v1.0//EN
CALSCALE:GREGORIAN
BEGIN:VEVENT
DTSTART:20211205T080000Z
DTEND:20211205T080000Z
UID:e24118
DTSTAMP:20260420T115044Z
LOCATION:
DESCRIPTION:Transient response of the tropical rain belt to volcanic eruptions
SUMMARY:Transient response of the tropical rain belt to volcanic eruptions
END:VEVENT
END:VCALENDAR