BEGIN:VCALENDAR
VERSION:2.0
PRODID:-//hacksw/handcal//NONSGML v1.0//EN
CALSCALE:GREGORIAN
BEGIN:VEVENT
DTSTART:20211013T110000Z
DTEND:20211013T123000Z
UID:e24132
DTSTAMP:20260424T040536Z
LOCATION:Gerhard M.J. Schmidt Lecture Hall
DESCRIPTION:Chemical and Biological Physics Guest Seminar
SUMMARY:Chemical and Biological Physics Guest Seminar
END:VEVENT
END:VCALENDAR