BEGIN:VCALENDAR
VERSION:2.0
PRODID:-//hacksw/handcal//NONSGML v1.0//EN
CALSCALE:GREGORIAN
BEGIN:VEVENT
DTSTART:20211007T110000Z
DTEND:20211007T120000Z
UID:e24156
DTSTAMP:20260423T155401Z
LOCATION:
DESCRIPTION:Episodic Memory from First Principles
SUMMARY:Episodic Memory from First Principles
END:VEVENT
END:VCALENDAR