BEGIN:VCALENDAR
VERSION:2.0
PRODID:-//hacksw/handcal//NONSGML v1.0//EN
CALSCALE:GREGORIAN
BEGIN:VEVENT
DTSTART:20211007T080000Z
DTEND:20211007T080000Z
UID:e24172
DTSTAMP:20260423T155359Z
LOCATION:
DESCRIPTION:NPOD at LUXE\, new physics search with optical dump
SUMMARY:NPOD at LUXE\, new physics search with optical dump
END:VEVENT
END:VCALENDAR