BEGIN:VCALENDAR
VERSION:2.0
PRODID:-//hacksw/handcal//NONSGML v1.0//EN
CALSCALE:GREGORIAN
BEGIN:VEVENT
DTSTART:20220412T050000Z
DTEND:20220412T050000Z
UID:e24180
DTSTAMP:20260420T115923Z
LOCATION:The David Lopatie Conference Centre
DESCRIPTION:Israel Crystallographic Association Annual Meeting 2022
SUMMARY:Israel Crystallographic Association Annual Meeting 2022
END:VEVENT
END:VCALENDAR