BEGIN:VCALENDAR
VERSION:2.0
PRODID:-//hacksw/handcal//NONSGML v1.0//EN
CALSCALE:GREGORIAN
BEGIN:VEVENT
DTSTART:20211011T103000Z
DTEND:20211011T113000Z
UID:e24188
DTSTAMP:20260423T044700Z
LOCATION:
DESCRIPTION:Time and experience dependent evolution of hippocampal memory codes 
SUMMARY:Time and experience dependent evolution of hippocampal memory codes 
END:VEVENT
END:VCALENDAR