BEGIN:VCALENDAR
VERSION:2.0
PRODID:-//hacksw/handcal//NONSGML v1.0//EN
CALSCALE:GREGORIAN
BEGIN:VEVENT
DTSTART:20211019T070000Z
DTEND:20211019T080000Z
UID:e24190
DTSTAMP:20260423T005207Z
LOCATION:
DESCRIPTION:Social Behavior in a Social Context: Lessons from Studying Genetic and Neuronal Manipulations affecting Social Behavior in a Complex Environment
SUMMARY:Social Behavior in a Social Context: Lessons from Studying Genetic and Neuronal Manipulations affecting Social Behavior in a Complex Environment
END:VEVENT
END:VCALENDAR